BEGIN:VCALENDAR
VERSION:2.0
PRODID:-//PYVOBJECT//NONSGML Version 1//EN
BEGIN:VEVENT
UID:20260421T092709Z - 27156@iv-cmsweb
DTSTART:20260225T130000
DTEND:20260225T160000
DTSTAMP:20260421T092709Z
LOCATION:Haus der Kaufmannschaft - LeitnerLeitner\, Schwarzenbergplatz 14\,
  1040\, Wien
SUMMARY:Internationale Steuerstreitigkeiten: Prävention oder Reaktion? Unt
 er besonderer Berücksichtigung der deutsch-österreichischen Praxis
END:VEVENT
END:VCALENDAR
